BEGIN:VCALENDAR
VERSION:2.0
PRODID:-//Delavan - Delavan Lake Chamber Website - ECPv6.14.2//NONSGML v1.0//EN
CALSCALE:GREGORIAN
METHOD:PUBLISH
X-ORIGINAL-URL:https://visitdelavanwi.com
X-WR-CALDESC:Events for Delavan - Delavan Lake Chamber Website
REFRESH-INTERVAL;VALUE=DURATION:PT1H
X-Robots-Tag:noindex
X-PUBLISHED-TTL:PT1H
BEGIN:VTIMEZONE
TZID:America/Chicago
BEGIN:DAYLIGHT
TZOFFSETFROM:-0600
TZOFFSETTO:-0500
TZNAME:CDT
DTSTART:20260308T080000
END:DAYLIGHT
BEGIN:STANDARD
TZOFFSETFROM:-0500
TZOFFSETTO:-0600
TZNAME:CST
DTSTART:20261101T070000
END:STANDARD
END:VTIMEZONE
BEGIN:VEVENT
DTSTART;TZID=America/Chicago:20260604T150000
DTEND;TZID=America/Chicago:20260604T190000
DTSTAMP:20260425T063823
CREATED:20260109T154720Z
LAST-MODIFIED:20260112T222916Z
UID:10000117-1780585200-1780599600@visitdelavanwi.com
SUMMARY:Market at Tower Park
DESCRIPTION:Join us every Thursday June – mid September from 3-7 PM Downtown Delavan at Tower Park
URL:https://visitdelavanwi.com/event/market-at-tower-park/
LOCATION:Tower Park\, Delavan\, WI\, 53115\, United States
ATTACH;FMTTYPE=image/jpeg:https://visitdelavanwi.com/wp-content/uploads/2026/01/IMG_2161-1-scaled.jpeg
END:VEVENT
BEGIN:VEVENT
DTSTART;TZID=America/Chicago:20260611T150000
DTEND;TZID=America/Chicago:20260611T180000
DTSTAMP:20260425T063823
CREATED:20260112T223234Z
LAST-MODIFIED:20260112T223234Z
UID:10000185-1781190000-1781200800@visitdelavanwi.com
SUMMARY:Market at Tower Park
DESCRIPTION:Join us every Thursday June – mid September from 3-7 PM Downtown Delavan at Tower Park
URL:https://visitdelavanwi.com/event/market-at-tower-park-2/
LOCATION:Tower Park\, Delavan\, WI\, 53115\, United States
ATTACH;FMTTYPE=image/jpeg:https://visitdelavanwi.com/wp-content/uploads/2026/01/Market-at-Tower-Park-scaled.jpeg
END:VEVENT
BEGIN:VEVENT
DTSTART;TZID=America/Chicago:20260618T150000
DTEND;TZID=America/Chicago:20260618T180000
DTSTAMP:20260425T063823
CREATED:20260112T223525Z
LAST-MODIFIED:20260112T230515Z
UID:10000186-1781794800-1781805600@visitdelavanwi.com
SUMMARY:Market at Tower Park
DESCRIPTION:Join us every Thursday June – mid September from 3-7 PM Downtown Delavan at Tower Park
URL:https://visitdelavanwi.com/event/market-at-tower-park-6/
LOCATION:Tower Park\, Delavan\, WI\, 53115\, United States
ATTACH;FMTTYPE=image/jpeg:https://visitdelavanwi.com/wp-content/uploads/2026/01/Market-9-scaled.jpeg
END:VEVENT
BEGIN:VEVENT
DTSTART;TZID=America/Chicago:20260625T150000
DTEND;TZID=America/Chicago:20260625T180000
DTSTAMP:20260425T063823
CREATED:20260112T224449Z
LAST-MODIFIED:20260112T224449Z
UID:10000187-1782399600-1782410400@visitdelavanwi.com
SUMMARY:Market at Tower Park
DESCRIPTION:Join us every Thursday June – mid September from 3-7 PM Downtown Delavan at Tower Park
URL:https://visitdelavanwi.com/event/market-at-tower-park-7/
LOCATION:Tower Park\, Delavan\, WI\, 53115\, United States
ATTACH;FMTTYPE=image/jpeg:https://visitdelavanwi.com/wp-content/uploads/2026/01/Market-at-Tower-Park-3-scaled.jpeg
END:VEVENT
BEGIN:VEVENT
DTSTART;TZID=America/Chicago:20260702T150000
DTEND;TZID=America/Chicago:20260702T190000
DTSTAMP:20260425T063823
CREATED:20260109T155458Z
LAST-MODIFIED:20260112T224701Z
UID:10000173-1783004400-1783018800@visitdelavanwi.com
SUMMARY:Market at Tower Park
DESCRIPTION:Join us every Thursday June – mid September from 3-7 PM Downtown Delavan at Tower Park
URL:https://visitdelavanwi.com/event/market-at-tower-park-3/
LOCATION:Tower Park\, Delavan\, WI\, 53115\, United States
ATTACH;FMTTYPE=image/jpeg:https://visitdelavanwi.com/wp-content/uploads/2026/01/Market-4-scaled.jpeg
END:VEVENT
BEGIN:VEVENT
DTSTART;TZID=America/Chicago:20260709T150000
DTEND;TZID=America/Chicago:20260709T190000
DTSTAMP:20260425T063823
CREATED:20260112T224905Z
LAST-MODIFIED:20260112T224905Z
UID:10000188-1783609200-1783623600@visitdelavanwi.com
SUMMARY:Market at Tower Park
DESCRIPTION:Join us every Thursday June – mid September from 3-7 PM Downtown Delavan at Tower Park
URL:https://visitdelavanwi.com/event/market-at-tower-park-8/
LOCATION:Tower Park\, Delavan\, WI\, 53115\, United States
ATTACH;FMTTYPE=image/jpeg:https://visitdelavanwi.com/wp-content/uploads/2026/01/Market-5-scaled.jpeg
END:VEVENT
BEGIN:VEVENT
DTSTART;TZID=America/Chicago:20260716T150000
DTEND;TZID=America/Chicago:20260716T190000
DTSTAMP:20260425T063823
CREATED:20260112T225057Z
LAST-MODIFIED:20260112T230944Z
UID:10000189-1784214000-1784228400@visitdelavanwi.com
SUMMARY:Market at Tower Park
DESCRIPTION:Join us every Thursday June – mid September from 3-7 PM Downtown Delavan at Tower Park
URL:https://visitdelavanwi.com/event/market-at-tower-park-9/
LOCATION:Tower Park\, Delavan\, WI\, 53115\, United States
ATTACH;FMTTYPE=image/jpeg:https://visitdelavanwi.com/wp-content/uploads/2026/01/IMG_2161-1-scaled.jpeg
END:VEVENT
BEGIN:VEVENT
DTSTART;TZID=America/Chicago:20260723T150000
DTEND;TZID=America/Chicago:20260723T190000
DTSTAMP:20260425T063823
CREATED:20260112T225308Z
LAST-MODIFIED:20260112T225308Z
UID:10000190-1784818800-1784833200@visitdelavanwi.com
SUMMARY:Market at Tower Park
DESCRIPTION:Join us every Thursday June – mid September from 3-7 PM Downtown Delavan at Tower Park
URL:https://visitdelavanwi.com/event/market-at-tower-park-10/
LOCATION:Tower Park\, Delavan\, WI\, 53115\, United States
ATTACH;FMTTYPE=image/jpeg:https://visitdelavanwi.com/wp-content/uploads/2026/01/Market-7-scaled.jpeg
END:VEVENT
BEGIN:VEVENT
DTSTART;TZID=America/Chicago:20260730T150000
DTEND;TZID=America/Chicago:20260730T190000
DTSTAMP:20260425T063823
CREATED:20260112T225457Z
LAST-MODIFIED:20260112T225457Z
UID:10000191-1785423600-1785438000@visitdelavanwi.com
SUMMARY:Market at Tower Park
DESCRIPTION:Join us every Thursday June – mid September from 3-7 PM Downtown Delavan at Tower Park
URL:https://visitdelavanwi.com/event/market-at-tower-park-11/
LOCATION:Tower Park\, Delavan\, WI\, 53115\, United States
ATTACH;FMTTYPE=image/jpeg:https://visitdelavanwi.com/wp-content/uploads/2026/01/Market-8-scaled.jpeg
END:VEVENT
BEGIN:VEVENT
DTSTART;TZID=America/Chicago:20260806T150000
DTEND;TZID=America/Chicago:20260806T190000
DTSTAMP:20260425T063823
CREATED:20260109T164537Z
LAST-MODIFIED:20260112T225619Z
UID:10000178-1786028400-1786042800@visitdelavanwi.com
SUMMARY:Market at Tower Park
DESCRIPTION:Join us every Thursday June – mid September from 3-7 PM Downtown Delavan at Tower Park
URL:https://visitdelavanwi.com/event/market-at-tower-park-4/
LOCATION:Tower Park\, Delavan\, WI\, 53115\, United States
ATTACH;FMTTYPE=image/jpeg:https://visitdelavanwi.com/wp-content/uploads/2026/01/Market-9-scaled.jpeg
END:VEVENT
BEGIN:VEVENT
DTSTART;TZID=America/Chicago:20260813T150000
DTEND;TZID=America/Chicago:20260813T190000
DTSTAMP:20260425T063823
CREATED:20260112T225733Z
LAST-MODIFIED:20260112T225733Z
UID:10000192-1786633200-1786647600@visitdelavanwi.com
SUMMARY:Market at Tower Park
DESCRIPTION:Join us every Thursday June – mid September from 3-7 PM Downtown Delavan at Tower Park
URL:https://visitdelavanwi.com/event/market-at-tower-park-12/
LOCATION:Tower Park\, Delavan\, WI\, 53115\, United States
ATTACH;FMTTYPE=image/jpeg:https://visitdelavanwi.com/wp-content/uploads/2026/01/Market-10-scaled.jpeg
END:VEVENT
BEGIN:VEVENT
DTSTART;TZID=America/Chicago:20260820T150000
DTEND;TZID=America/Chicago:20260820T190000
DTSTAMP:20260425T063823
CREATED:20260112T225916Z
LAST-MODIFIED:20260112T225916Z
UID:10000193-1787238000-1787252400@visitdelavanwi.com
SUMMARY:Market at Tower Park
DESCRIPTION:Join us every Thursday June – mid September from 3-7 PM Downtown Delavan at Tower Park
URL:https://visitdelavanwi.com/event/market-at-tower-park-13/
LOCATION:Tower Park\, Delavan\, WI\, 53115\, United States
ATTACH;FMTTYPE=image/jpeg:https://visitdelavanwi.com/wp-content/uploads/2026/01/Market-11-1-scaled.jpeg
END:VEVENT
BEGIN:VEVENT
DTSTART;TZID=America/Chicago:20260827T150000
DTEND;TZID=America/Chicago:20260827T190000
DTSTAMP:20260425T063823
CREATED:20260112T230029Z
LAST-MODIFIED:20260112T230029Z
UID:10000194-1787842800-1787857200@visitdelavanwi.com
SUMMARY:Market at Tower Park
DESCRIPTION:Join us every Thursday June – mid September from 3-7 PM Downtown Delavan at Tower Park
URL:https://visitdelavanwi.com/event/market-at-tower-park-14/
LOCATION:Tower Park\, Delavan\, WI\, 53115\, United States
ATTACH;FMTTYPE=image/jpeg:https://visitdelavanwi.com/wp-content/uploads/2026/01/Market-at-Tower-Park-scaled.jpeg
END:VEVENT
BEGIN:VEVENT
DTSTART;TZID=America/Chicago:20260903T150000
DTEND;TZID=America/Chicago:20260903T190000
DTSTAMP:20260425T063823
CREATED:20260109T164809Z
LAST-MODIFIED:20260112T230159Z
UID:10000182-1788447600-1788462000@visitdelavanwi.com
SUMMARY:Market at Tower Park
DESCRIPTION:Join us every Thursday June – mid September from 3-7 PM Downtown Delavan at Tower Park
URL:https://visitdelavanwi.com/event/market-at-tower-park-5/
LOCATION:Tower Park\, Delavan\, WI\, 53115\, United States
ATTACH;FMTTYPE=image/jpeg:https://visitdelavanwi.com/wp-content/uploads/2026/01/IMG_0012-scaled.jpeg
END:VEVENT
BEGIN:VEVENT
DTSTART;TZID=America/Chicago:20260910T150000
DTEND;TZID=America/Chicago:20260910T190000
DTSTAMP:20260425T063823
CREATED:20260112T230317Z
LAST-MODIFIED:20260112T230317Z
UID:10000195-1789052400-1789066800@visitdelavanwi.com
SUMMARY:Market at Tower Park
DESCRIPTION:Join us every Thursday June – mid September from 3-7 PM Downtown Delavan at Tower Park
URL:https://visitdelavanwi.com/event/market-at-tower-park-15/
LOCATION:Tower Park\, Delavan\, WI\, 53115\, United States
ATTACH;FMTTYPE=image/jpeg:https://visitdelavanwi.com/wp-content/uploads/2026/01/IMG_1384-scaled.jpeg
END:VEVENT
BEGIN:VEVENT
DTSTART;TZID=America/Chicago:20261204T180000
DTEND;TZID=America/Chicago:20261204T200000
DTSTAMP:20260425T063823
CREATED:20260107T184215Z
LAST-MODIFIED:20260107T205619Z
UID:10000107-1796407200-1796414400@visitdelavanwi.com
SUMMARY:Christmas Tree Lighting\, Comet Caroling\, & Parade around the park
DESCRIPTION:Join us Dec 4th in Tower Park for the annual Christmas Tree Lighting Ceremony. The DDHS choir will be singing\, there will be warm drinks\, and Santa will be arriving at 6:00!
URL:https://visitdelavanwi.com/event/christmas-tree-lighting-comet-caroling-parade-around-the-park/
LOCATION:Tower Park\, Delavan\, WI\, 53115\, United States
ATTACH;FMTTYPE=image/jpeg:https://visitdelavanwi.com/wp-content/uploads/2025/07/IMG_6743-scaled.jpg
END:VEVENT
END:VCALENDAR