BEGIN:VCALENDAR
VERSION:2.0
PRODID:-//Delavan - Delavan Lake Chamber Website - ECPv6.14.2//NONSGML v1.0//EN
CALSCALE:GREGORIAN
METHOD:PUBLISH
X-WR-CALNAME:Delavan - Delavan Lake Chamber Website
X-ORIGINAL-URL:https://visitdelavanwi.com
X-WR-CALDESC:Events for Delavan - Delavan Lake Chamber Website
REFRESH-INTERVAL;VALUE=DURATION:PT1H
X-Robots-Tag:noindex
X-PUBLISHED-TTL:PT1H
BEGIN:VTIMEZONE
TZID:America/Chicago
BEGIN:DAYLIGHT
TZOFFSETFROM:-0600
TZOFFSETTO:-0500
TZNAME:CDT
DTSTART:20260308T080000
END:DAYLIGHT
BEGIN:STANDARD
TZOFFSETFROM:-0500
TZOFFSETTO:-0600
TZNAME:CST
DTSTART:20261101T070000
END:STANDARD
END:VTIMEZONE
BEGIN:VEVENT
DTSTART;TZID=America/Chicago:20260501T150000
DTEND;TZID=America/Chicago:20260501T210000
DTSTAMP:20260423T104557
CREATED:20260108T150919Z
LAST-MODIFIED:20260420T174704Z
UID:10000114-1777647600-1777669200@visitdelavanwi.com
SUMMARY:Cinco de Mayo
DESCRIPTION:The Elena P. Godina Delavan’s annual Delavan Cinco de Mayo Fest is the first Weekend in May. The all weekend celebration is filled with music\, food & fun. \n3-5pm: DJ Smilez\n5pm: Standup Comedy with Adrian Avila\n6pm: Cantante Letticia Vela\n7pm: Los Cadetes de Tony Caño – Norteno\n9pm: Addios
URL:https://visitdelavanwi.com/event/cinco-de-mayo/
LOCATION:Delavan\, Delavan\, WI\, 53115\, United States
ATTACH;FMTTYPE=image/jpeg:https://visitdelavanwi.com/wp-content/uploads/2026/01/Cinco-de-Mayo-scaled.jpeg
END:VEVENT
BEGIN:VEVENT
DTSTART;TZID=America/Chicago:20260502T100000
DTEND;TZID=America/Chicago:20260502T210000
DTSTAMP:20260423T104557
CREATED:20260108T151315Z
LAST-MODIFIED:20260420T175138Z
UID:10000115-1777716000-1777755600@visitdelavanwi.com
SUMMARY:Cinco de Mayo
DESCRIPTION:The Elena P. Godina Delavan’s annual Delavan Cinco de Mayo Fest is the first Weekend in May. The all weekend celebration is filled with music\, food & fun. \n10am-2pm: Car Show – United Methodist Church Parking Lot\n10am-Noon: DJ Smilez\nNoon: Balet Folkorico Juvenil\, Sangre Mexicana de Beloit\n1pm: Payaso Guapetin (clown)\n2pm: Jalepeño Eating Contest\, Car Show Awards & Grito Contest\n3-5pm: Tejano Express\n5pm: Selena Tribute with Alexandra Salgaldo\n6pm: Cantante Claudia Galavez de Chicago\n7-9pm: Los Audios de Mexico\n9pm: Addios
URL:https://visitdelavanwi.com/event/cinco-de-mayo-2/
LOCATION:Delavan\, Delavan\, WI\, 53115\, United States
ATTACH;FMTTYPE=image/jpeg:https://visitdelavanwi.com/wp-content/uploads/2026/01/Carnival-Cinco-de-Mayo-scaled.jpeg
END:VEVENT
BEGIN:VEVENT
DTSTART;TZID=America/Chicago:20260503T100000
DTEND;TZID=America/Chicago:20260503T210000
DTSTAMP:20260423T104557
CREATED:20260108T151419Z
LAST-MODIFIED:20260420T175636Z
UID:10000116-1777802400-1777842000@visitdelavanwi.com
SUMMARY:Cinco de Mayo
DESCRIPTION:The Elena P. Godina Delavan’s annual Delavan Cinco de Mayo Fest is the first Weekend in May. The all weekend celebration is filled with music\, food & fun. \n10am: Parade lineup at 10\, Parade at 10:30 Washington and 7th Steet ? DJ Abel\n11:15am: Mass with the United Methodist church of Delavan\n12pm: Balet Folkorico Juvenil\, Sangre Mexicana de Beloit\n1pm: Los Chinelos de Beloit\n2-4pm: Nueva Illusion\n5pm: Sherlyn Padillas de Chicago\n6-8pm: Super Groupo Prestjio\n8pm: DJ Abel Ruiz\n9pm: Addios
URL:https://visitdelavanwi.com/event/cinco-de-mayo-3/
LOCATION:Delavan\, Delavan\, WI\, 53115\, United States
ATTACH;FMTTYPE=image/jpeg:https://visitdelavanwi.com/wp-content/uploads/2026/01/cinco104-scaled.jpg
END:VEVENT
BEGIN:VEVENT
DTSTART;TZID=America/Chicago:20260613T100000
DTEND;TZID=America/Chicago:20260613T180000
DTSTAMP:20260423T104557
CREATED:20260107T174634Z
LAST-MODIFIED:20260107T174634Z
UID:10000098-1781344800-1781373600@visitdelavanwi.com
SUMMARY:Brick Street Day
DESCRIPTION:Celebrate Delavan’s rich history and vibrant community at the return of Brick Street Days — a full day of vintage fun\, art\, food\, and local pride!
URL:https://visitdelavanwi.com/event/brick-street-day/
LOCATION:Delavan\, Delavan\, WI\, 53115\, United States
ATTACH;FMTTYPE=image/png:https://visitdelavanwi.com/wp-content/uploads/2026/01/Screenshot-2026-01-04-at-3.06.52-PM.png
END:VEVENT
BEGIN:VEVENT
DTSTART;VALUE=DATE:20260625
DTEND;VALUE=DATE:20260626
DTSTAMP:20260423T104557
CREATED:20260108T144324Z
LAST-MODIFIED:20260108T144535Z
UID:10000113-1782345600-1782431999@visitdelavanwi.com
SUMMARY:10-Day Celebration of America's 250th Anniversary
DESCRIPTION:Join us in celebrating this 10 day event starting June 25th and going all the way to July 5th as we celebrate America’s 250th Anniversary!
URL:https://visitdelavanwi.com/event/10-day-celebration-of-americas-250th-anniversary/
LOCATION:Delavan\, Delavan\, WI\, 53115\, United States
ATTACH;FMTTYPE=image/png:https://visitdelavanwi.com/wp-content/uploads/2026/01/unnamed-2.png
END:VEVENT
BEGIN:VEVENT
DTSTART;TZID=America/Chicago:20260702T170000
DTEND;TZID=America/Chicago:20260702T220000
DTSTAMP:20260423T104557
CREATED:20260108T142926Z
LAST-MODIFIED:20260320T144944Z
UID:10000111-1783011600-1783029600@visitdelavanwi.com
SUMMARY:Stars\, Stripes & Streetlights Street Dance
DESCRIPTION:🎆🇺🇸 Celebrate America’s 250th—Delavan Style! 🇺🇸🎆Meet me at the Market… and stay for the Street Dance! \nJoin us for a Red\, White & Blue MEGA Market at Tower Park on Tuesday\, July 2nd from 3–7 PM as we kick off Independence weekend AND America’s 250th anniversary in true Delavan fashion! \n🧺 Shop & Snack: Enjoy special patriotic-themed items and festive food creations from your favorite Market vendors.🎤 Surprise Star-Spangled Performances: Don’t blink—you never know when a pop-up performance might appear!✨ Beverages by the Chamber: Cool drinks to beat the summer heat. \nThen… the celebration rolls right into town! \n💃🕺 Stars\, Stripes & Streetlights Street Dance📍 Delavan Brick Road • ⏰ 6–10 PMKick off Independence weekend with Delavan’s favorite summer street dance—a night of music\, community pride\, and pure small-town summer magic. \n🎸 Amazing live band\, The Love Monkeys!🍺 Local brew selections🎈 Kid Zone🎖️ Salute to Service moment \n✨ Sip\, Sway & Celebrate—Delavan Style.Let’s light up the night and honor 250 years of America together!
URL:https://visitdelavanwi.com/event/stars-stripes-streetlights-street-dance/
LOCATION:Delavan\, Delavan\, WI\, 53115\, United States
ATTACH;FMTTYPE=image/png:https://visitdelavanwi.com/wp-content/uploads/2026/01/Patriotic-Street-Dance-Event-Poster.png
END:VEVENT
BEGIN:VEVENT
DTSTART;TZID=America/Chicago:20260704T150000
DTEND;TZID=America/Chicago:20260704T210000
DTSTAMP:20260423T104557
CREATED:20260108T143436Z
LAST-MODIFIED:20260108T143436Z
UID:10000112-1783177200-1783198800@visitdelavanwi.com
SUMMARY:City of Delavan Parade & Festivites
DESCRIPTION:Celebrate the 4th of July with a parade and festivities starting at 3pm ending with fireworks at the Delavan-Darien High School at 9pm!
URL:https://visitdelavanwi.com/event/city-of-delavan-parade-festivites/
LOCATION:Delavan\, Delavan\, WI\, 53115\, United States
ATTACH;FMTTYPE=image/jpeg:https://visitdelavanwi.com/wp-content/uploads/2026/01/4th-of-July-Parade-scaled.jpeg
END:VEVENT
BEGIN:VEVENT
DTSTART;TZID=America/Chicago:20261024T150000
DTEND;TZID=America/Chicago:20261024T190000
DTSTAMP:20260423T104557
CREATED:20260107T182157Z
LAST-MODIFIED:20260107T182157Z
UID:10000101-1792854000-1792868400@visitdelavanwi.com
SUMMARY:Brew Walk
DESCRIPTION:Grab your friends and family\, wrist band\, tasting passport\, a tasting glass\, and map to take in the fall highlights of Downtown Delavan – SIP\, STROLL\, SHOP while discovering downtown Delavan.
URL:https://visitdelavanwi.com/event/brew-walk/
LOCATION:Delavan\, Delavan\, WI\, 53115\, United States
ATTACH;FMTTYPE=image/jpeg:https://visitdelavanwi.com/wp-content/uploads/2026/01/IMG_6889-scaled.jpeg
END:VEVENT
BEGIN:VEVENT
DTSTART;TZID=America/Chicago:20261031T160000
DTEND;TZID=America/Chicago:20261031T180000
DTSTAMP:20260423T104557
CREATED:20260107T182716Z
LAST-MODIFIED:20260107T182716Z
UID:10000102-1793462400-1793469600@visitdelavanwi.com
SUMMARY:City of Delavan Trick-or-Treat
DESCRIPTION:Grab yoru costumes and Trick-or-Treat around the city of Delavan!
URL:https://visitdelavanwi.com/event/city-of-delavan-trick-or-treat/
LOCATION:Delavan\, Delavan\, WI\, 53115\, United States
ATTACH;FMTTYPE=image/jpeg:https://visitdelavanwi.com/wp-content/uploads/2026/01/people-celebrating-halloween-2025-09-09-20-30-03-utc-scaled.jpg
END:VEVENT
BEGIN:VEVENT
DTSTART;TZID=America/Chicago:20261128T100000
DTEND;TZID=America/Chicago:20261128T170000
DTSTAMP:20260423T104557
CREATED:20260107T183938Z
LAST-MODIFIED:20260107T211931Z
UID:10000106-1795860000-1795885200@visitdelavanwi.com
SUMMARY:Small Business Saturday
DESCRIPTION:
URL:https://visitdelavanwi.com/event/small-business-saturday/
LOCATION:Delavan\, Delavan\, WI\, 53115\, United States
ATTACH;FMTTYPE=image/png:https://visitdelavanwi.com/wp-content/uploads/2026/01/This-season-shop-local-1.png
END:VEVENT
END:VCALENDAR