BEGIN:VCALENDAR
VERSION:2.0
PRODID:-//Delavan - Delavan Lake Chamber Website - ECPv6.14.2//NONSGML v1.0//EN
CALSCALE:GREGORIAN
METHOD:PUBLISH
X-WR-CALNAME:Delavan - Delavan Lake Chamber Website
X-ORIGINAL-URL:https://visitdelavanwi.com
X-WR-CALDESC:Events for Delavan - Delavan Lake Chamber Website
REFRESH-INTERVAL;VALUE=DURATION:PT1H
X-Robots-Tag:noindex
X-PUBLISHED-TTL:PT1H
BEGIN:VTIMEZONE
TZID:America/Chicago
BEGIN:DAYLIGHT
TZOFFSETFROM:-0600
TZOFFSETTO:-0500
TZNAME:CDT
DTSTART:20250309T080000
END:DAYLIGHT
BEGIN:STANDARD
TZOFFSETFROM:-0500
TZOFFSETTO:-0600
TZNAME:CST
DTSTART:20251102T070000
END:STANDARD
BEGIN:DAYLIGHT
TZOFFSETFROM:-0600
TZOFFSETTO:-0500
TZNAME:CDT
DTSTART:20260308T080000
END:DAYLIGHT
BEGIN:STANDARD
TZOFFSETFROM:-0500
TZOFFSETTO:-0600
TZNAME:CST
DTSTART:20261101T070000
END:STANDARD
END:VTIMEZONE
BEGIN:VEVENT
DTSTART;TZID=America/Chicago:20260308T100000
DTEND;TZID=America/Chicago:20260308T160000
DTSTAMP:20260423T122052
CREATED:20260105T224910Z
LAST-MODIFIED:20260107T155147Z
UID:10000020-1772964000-1772985600@visitdelavanwi.com
SUMMARY:Train Show day 2
DESCRIPTION:The Delavan Train Show will showcase a spectacular array of model train layouts in the main and lower levels of the Delavan American Legion Hall\,  Delavan’s City Hall and various businesses through Downtown Delavan. This event is open to the public with FREE admission\, making it the perfect activity for families looking to share in the excitement of the miniature railway world.
URL:https://visitdelavanwi.com/event/train-show-day-2/
LOCATION:Delavan\, Delavan\, WI\, 53115\, United States
ATTACH;FMTTYPE=image/jpeg:https://visitdelavanwi.com/wp-content/uploads/2026/01/train-pic.jpeg
END:VEVENT
BEGIN:VEVENT
DTSTART;TZID=America/Chicago:20260307T090000
DTEND;TZID=America/Chicago:20260307T160000
DTSTAMP:20260423T122052
CREATED:20260105T224719Z
LAST-MODIFIED:20260107T154810Z
UID:10000019-1772874000-1772899200@visitdelavanwi.com
SUMMARY:Train Show day 1
DESCRIPTION:The Delavan Train Show will showcase a spectacular array of model train layouts in the main and lower levels of the Delavan American Legion Hall\,  Delavan’s City Hall and various businesses through Downtown Delavan. This event is open to the public with FREE admission\, making it the perfect activity for families looking to share in the excitement of the miniature railway world.
URL:https://visitdelavanwi.com/event/train-show/
LOCATION:Delavan\, Delavan\, WI\, 53115\, United States
ATTACH;FMTTYPE=image/jpeg:https://visitdelavanwi.com/wp-content/uploads/2026/01/train-pic2.jpg
END:VEVENT
BEGIN:VEVENT
DTSTART;VALUE=DATE:20250808
DTEND;VALUE=DATE:20250810
DTSTAMP:20260423T122052
CREATED:20250724T171045Z
LAST-MODIFIED:20250725T162736Z
UID:10000009-1754611200-1754783999@visitdelavanwi.com
SUMMARY:Maxwell Street Days & Community Wide Rummage Sale
DESCRIPTION:Visit Delavan businesses for special sales.
URL:https://visitdelavanwi.com/event/maxwell-street-days-community-wide-rummage-sale/
LOCATION:Delavan\, Delavan\, WI\, 53115\, United States
ATTACH;FMTTYPE=image/jpeg:https://visitdelavanwi.com/wp-content/uploads/2025/07/downtownDelvan.jpg
END:VEVENT
END:VCALENDAR